{"text_format":"2","workbook":"xlsx","n_sheets":1,"sheets":["до 6 лет "],"not_rendered":{"charts":0,"images":0,"macros":0,"external_links":0,"defined_names":1,"comments":1,"pivot_tables":0},"unopened":[],"bounds":{"document_bytes":16777216,"sheet_cells":100000,"run_cost":"one","rows_first":2000,"rows_last":500,"rows_between":2000,"halvings":0,"cell_chars":16384,"cell_head_chars":4096},"cells_cut":0,"cells_raw":0,"read":"whole","date_system":"1900"}

{"sheet":"до 6 лет ","index":0,"n_rows":868,"n_cols":7,"rows_kept":868,"cut":false,"hidden":false,"merged":[[767,1,767,6],[824,1,824,6],[816,2,817,2],[822,1,822,6],[816,1,817,1],[809,2,812,2],[809,1,812,1],[769,1,769,6],[713,2,717,2],[653,1,653,6],[713,1,717,1],[727,1,727,6],[725,1,725,6],[721,2,723,2],[721,1,723,1],[584,1,586,1],[584,2,586,2],[647,1,648,1],[640,1,643,1],[589,1,589,6],[587,1,587,6],[647,2,648,2],[53,1,53,6],[574,2,580,2],[94,1,94,6],[135,1,135,6],[252,1,252,6],[382,1,385,1],[295,1,295,6],[388,1,388,6],[386,1,386,6],[254,1,254,6],[247,1,247,6],[249,1,249,6],[382,2,385,2],[357,1,357,6],[293,1,293,6],[432,1,440,1],[49,1,49,6],[51,1,51,6],[2,4,2,6],[4,4,4,6],[5,3,5,6],[27,1,32,6],[16,1,16,6],[34,1,34,6],[137,1,137,6],[96,1,96,6],[175,1,175,6],[177,1,177,6],[864,4,864,5],[432,2,440,2],[574,1,580,1],[502,2,505,2],[502,1,505,1],[443,1,443,6],[517,1,517,6],[441,1,441,6],[480,1,480,6],[515,1,515,6],[640,2,643,2],[655,1,655,6]]}
[]
[]
[null,"      СОГЛАСОВАНО:",null,null,"УТВЕРЖДАЮ:"]
[]
[{"$nulls":4},"________________________"]
[null,null,null,"Директор М.И. Жинько"]
{"$rows_empty":10}
[null,"ГБУ \"Автозаводский детский дом-интернат\""]
{"$rows_empty":10}
[null,"ПРИМЕРНОЕ ЧЕТЫРНАДЦАТИДНЕВНОЕ (ДВУХНЕДЕЛЬНОЕ) МЕНЮ  ДЛЯ ВОСПИТАННИКОВ ДО 6 ЛЕТ"]
{"$rows_empty":21}
[null,"2021     год"]
[]
[null,"МЕНЮ"]
[]
[null,"П Е Р В Ы Й    Д Е Н Ь"]
[null,"ЗАВТРАК"]
["№ рец","Наименование блюда","Выход","Б","Ж","У","К"]
[223,"Запеканка из творога с иогуртом",130,19.138000000000002,11.52,14.823,239.98]
[14,"Масло сливочное",5,0.04,3.62,0.06,33.049999999999997]
[15,"Сыр",15,3.9,3.9,"-",54]
[null,"Кофейный напиток с молоком",200,4,4.07,24.09,152.80000000000001]
[null,"Батон ",40,3,1.1599999999999999,20.56,104.68]
[null,"Итого завтрак",null,{"$f":"SUM(D57:D61)","v":30.077999999999999},{"$f":"SUM(E57:E61)","v":24.27},{"$f":"SUM(F57:F61)","v":59.533000000000001},{"$f":"SUM(G57:G61)","v":584.51}]
[null,"           ОБЕД"]
[75,"Икра свекольная",50,0.76,4.0449999999999999,5.125,59.17]
[87,"Щи со сметаной",200,1.81,6.1920000000000002,7.61,93.66]
[268,"Котлета мясная",55,7.94,13.18,5.48,171.4]
[203,"Вермишель отварная",150,5.34,6.68,35.770000000000003,204.92]
[null,"Сок фруктовый, яблочный",150,0.75,"-",13.65,105]
[null,"Хлеб ржаной",50,3.28,0.6,16.7,85.4]
[null,"Итого обед",null,{"$f":"SUM(D64:D69)","v":19.880000000000003},{"$f":"SUM(E64:E69)","v":30.697000000000003},{"$f":"SUM(F64:F69)","v":84.335000000000008},{"$f":"SUM(G64:G69)","v":719.55}]
[null,"             ПОЛДНИК"]
[null,"Зефир",30,0.24,"-",23.49,89.7]
[null,"Банан",150,1.5,0.5,21,94.5]
[null,"Чай без сахара",200,0.1,2.5000000000000001E-2,0.02,"-"]
[null,"Итого полдник",null,{"$f":"SUM(D72:D74)","v":1.84},{"$f":"SUM(E72:E74)","v":0.52500000000000002},{"$f":"SUM(F72:F74)","v":44.51},{"$f":"SUM(G72:G74)","v":184.2}]
[null,"                УЖИН"]
[null,"Огурец свежий",75,1.1200000000000001,7.0000000000000007E-2,5.77,27]
[228,"Рыба припущенная в молоке",75,6.82,8.8000000000000007,4.92,122.28]
[128,"Картофельное пюре",150,3.23,5.04,21.02,150.35]
[349,"Компот из сухофруктов",150,0.38,"-",23.12,90.26]
[null,"Батон ",30,2.25,0.87,15.42,78.510000000000005]
[null,"Итого ужин ",null,{"$f":"SUM(D77:D81)","v":13.8},{"$f":"SUM(E77:E81)","v":14.78},{"$f":"SUM(F77:F81)","v":70.25},{"$f":"SUM(G77:G81)","v":468.4}]
[null,"      ВТОРОЙ УЖИН"]
[386,"Кефир 2,5%",150,4.2,4.8099999999999996,7.06,87.19]
[null,"Гренки/сухарики",10,0.77,0.24,4.9000000000000004,35.4]
[null,"Итого второй ужин",null,{"$f":"SUM(D84:D85)","v":4.9700000000000006},{"$f":"SUM(E84:E85)","v":5.05},{"$f":"SUM(F84:F85)","v":11.96},{"$f":"SUM(G84:G85)","v":122.59}]
[]
[null,"Соль за целый день ",8,"-","-","-","-"]
[]
[null,"Итого за день",null,{"$f":"D86+D82+D75+D70+D62","v":70.568000000000012},{"$f":"E86+E82+E75+E70+E62","v":75.322000000000003},{"$f":"F86+F82+F75+F70+F62","v":270.58800000000002},{"$f":"G86+G82+G75+G70+G62","v":2079.25}]
[]
[]
[]
[]
[null,"МЕНЮ"]
[]
[null,"В Т О Р О Й   Д Е Н Ь"]
[null,"ЗАВТРАК"]
[null,"Наименование блюда","Выход","Б","Ж","У","К"]
[182,"Каша пшенная",150,5.64,8.5,26.81,200.72]
[14,"Масло сливочное",5,0.04,3.62,0.06,33.049999999999997]
[16,"Колбаса отварная",15,1.95,2.91,"-",34.049999999999997]
[378,"Чай с молоком",200,1.49,1.615,17.37,85.85]
[null,"Яблоко свежее",150,0.4,0.4,9.76,44.48]
[null,"Батон ",40,3,1.1599999999999999,20.56,104.68]
[null,"Итого завтрак",null,{"$f":"SUM(D100:D105)","v":12.52},{"$f":"SUM(E100:E105)","v":18.204999999999998},{"$f":"SUM(F100:F105)","v":74.559999999999988},{"$f":"SUM(G100:G105)","v":502.83}]
[null,"           ОБЕД"]
[73,"Икра кабачковая",50,1,4.5,4.25,61]
[82,"Борщ со сметаной",200,1.57,6.165,9.7899999999999991,98.06]
[231,"Поджарка рыбная",95,15.33,8.86,7.84,172.44]
[304,"Рис отварной",150,3.84,5.62,38.86,223.93]
[null,"Сок фруктовый, виноградный",150,0.45,"-",20.7,81]
[null,"Хлеб ржаной",50,3.28,0.6,16.7,85.4]
[null,"Итого обед",null,{"$f":"SUM(D108:D113)","v":25.47},{"$f":"SUM(E108:E113)","v":25.745000000000001},{"$f":"SUM(F108:F113)","v":98.14},{"$f":"SUM(G108:G113)","v":721.83}]
[null,"             ПОЛДНИК"]
[210,"Омлет натуральный с зеленым горошком",110,7.19,10.26,3.81,138.61000000000001]
[null,"Молоко топленое",200,5.8,8,9.4,132.80000000000001]
[null,"Итого полдник",null,{"$f":"SUM(D116:D117)","v":12.99},{"$f":"SUM(E116:E117)","v":18.259999999999998},{"$f":"SUM(F116:F117)","v":13.21},{"$f":"SUM(G116:G117)","v":271.41000000000003}]
[null,"                УЖИН"]
[null,"Помидоры свежие",75,1.1200000000000001,7.0000000000000007E-2,5.77,27]
[299,"Суфле из бройлеров-цыплят",60,9.49,13.515000000000001,2.67,171.01]
[143,"Рагу овощное",150,2.77,5.7,13.83,128.09]
[348,"Компот из кураги",150,0.45,"-",23.15,89.9]
[null,"Батон ",40,3,1.1599999999999999,20.56,104.68]
[null,"Итого ужин ",null,{"$f":"SUM(D120:D124)","v":16.829999999999998},{"$f":"SUM(E120:E124)","v":20.445},{"$f":"SUM(F120:F124)","v":65.98},{"$f":"SUM(G120:G124)","v":520.68000000000006}]
[null,"      ВТОРОЙ УЖИН"]
[null,"Ряженка",150,4.2,4.8,8.2899999999999991,102.35]
[null,"Печенье",20,1.48,1.96,14.88,83.08]
[null,"Итого второй ужин",null,{"$f":"SUM(D127:D128)","v":5.68},{"$f":"SUM(E127:E128)","v":6.76},{"$f":"SUM(F127:F128)","v":23.17},{"$f":"SUM(G127:G128)","v":185.43}]
[]
[null,"Соль за целый день ",8,"-","-","-","-"]
[]
[null,"Итого за день",null,{"$f":"D129+D125+D118+D114+D106","v":73.489999999999995},{"$f":"E129+E125+E118+E114+E106","v":89.414999999999992},{"$f":"F129+F125+F118+F114+F106","v":275.06},{"$f":"G129+G125+G118+G114+G106","v":2202.1800000000003}]
[]
[]
[null,"МЕНЮ"]
[]
[null,"Т Р Е Т И Й    Д Е Н Ь"]
[null,"ЗАВТРАК"]
[null,"Наименование блюда","Выход","Б","Ж","У","К"]
[219,"Сырники из творога со сгущенным молоком",120,20.329999999999998,10.85,34.71,318.77999999999997]
[null,"Масло сливочное",5,0.04,3.62,0.06,33.049999999999997]
[209,"Яйцо вареное","1 шт",5.0999999999999996,4.5999999999999996,0.28000000000000003,62.84]
[376,"Чай с лимоном",200,0.13,0.02,15.2,62]
[null,"Батон ",40,3,1.1599999999999999,20.56,104.68]
[null,"Итого завтрак",null,28.6,20.25,70.81,581.35]
[null,"           ОБЕД"]
[67,"Винегрет овощной",50,0.76,5.07,3.97,64.650000000000006]
[103,"Суп картофельный с вермишелью на курином бульоне",200,2.19,2.258,16.38,97.32]
[288,"Цыпленок отварной",50,10.55,6.8,"-",103.4]
[302,"Каша гречневая рассыпчатая",150,5.84,4.7699999999999996,4.16,237.4]
[null,"Апельсин",150,0.9,0.2,8.1,37.799999999999997]
[null,"Сок фруктовый, персиковый",150,0.45,"-",25.5,99]
[null,"Хлеб ржаной",50,3.28,0.6,16.7,85.4]
[null,"Итого обед",null,{"$f":"SUM(D148:D154)","v":23.97},{"$f":"SUM(E148:E153)","v":19.097999999999999},{"$f":"SUM(F148:F153)","v":58.11},{"$f":"SUM(G148:G154)","v":724.96999999999991}]
[null,"             ПОЛДНИК"]
[null,"Вафли",25,0.8,0.7,20,87.5]
[null,"Чудо-молоко",200,2.8,2,7.5,67]
[null,"Итого полдник",null,{"$f":"SUM(D157:D158)","v":3.5999999999999996},2.7,{"$f":"SUM(F157:F158)","v":27.5},{"$f":"SUM(G157:G158)","v":154.5}]
[null,"                УЖИН"]
[null,"Сельдь с/с ",15,2.5,1.25,"-",21.75]
[75,"Икра морковная",50,0.71,4.0449999999999999,4.7,56.18]
[268,"Биточки мясные",80,8.5399999999999991,11.1,8.5350000000000001,167.07]
[125,"Картофель отварной",150,3.04,4.41,24.51,154.69999999999999]
[348,"Компот из груши",150,0.12,0.09,20.81,82.92]
[null,"Батон ",30,2.25,0.87,15.42,78.510000000000005]
[null,"Итого ужин ",null,17.16,21.765000000000001,73.974999999999994,561.13]
[null,"      ВТОРОЙ УЖИН"]
[null,"Йогурт ",150,4.2,4.8099999999999996,7.06,87.17]
[null,"Батон ",10,0.75,0.28999999999999998,5.14,26.17]
[null,"Итого второй ужин",null,{"$f":"SUM(D169:D170)","v":4.95},{"$f":"SUM(E169:E170)","v":5.0999999999999996},{"$f":"SUM(F169:F170)","v":12.2},{"$f":"SUM(G169:G170)","v":113.34}]
[]
[null,"Соль за целый день ",8,"-","-","-","-"]
[]
[null,"Итого за день",null,78.28,68.92,{"$f":"F171+F167+F159+F155+F146","v":242.595},2135.29]
[null,"МЕНЮ"]
[]
[null,"Ч Е Т В Е Р Т Ы Й    Д Е Н Ь"]
[null,"ЗАВТРАК"]
[null,"Наименование блюда","Выход","Б","Ж","У","К"]
[null,"Наименование блюда","Выход","Б","Ж","У","К"]
[120,"Суп молочный с крупой",150,2.23,2.68,4.6100000000000003,53.4]
[14,"Масло сливочное",5,0.04,3.62,0.06,33.049999999999997]
[16,"Колбаса отварная",15,1.95,2.91,"-",34.049999999999997]
[382,"Какао с молоком",200,3.76,3.9,25.81,149]
[null,"Груша свежая",150,0.4,0.3,10.3,45.62]
[null,"Батон ",40,3,1.1599999999999999,20.56,104.68]
[null,"Итого завтрак",null,11.38,14.57,61.34,419.8]
[null,"           ОБЕД"]
[null,"Икра кабачковая",50,1,4.5,4.25,61]
[101,"Суп картофельный с рыбными фрикадельками ",200,7.35,5.5,12.52,139.71]
[284,"Запеканка картофельная с мясом",180,16.16,21.33,33.65,390.7]
[349,"Сок фруктовый, яблочный",150,0.75,"-",13.65,105]
[null,"Хлеб ржаной",50,3.28,0.6,16.7,85.4]
[null,"Итого обед",null,28.54,31.93,80.77,781.81]
[null,"             ПОЛДНИК"]
[466,"Пирожок с рисом и яйцом",100,7.13,7.75,41.96,265.33]
[null,"Молоко стерилизованное",200,5.8,5,9.6,106.6]
[null,"Итого полдник",null,{"$f":"SUM(D197:D198)","v":12.93},{"$f":"SUM(E197:E198)","v":12.75},{"$f":"SUM(F197:F198)","v":51.56},{"$f":"SUM(G197:G198)","v":371.92999999999995}]
[null,"                УЖИН"]
[null,"Огурец свежий",75,1.1200000000000001,7.0000000000000007E-2,5.77,27]
[251,"Поджарка мясная",65,15.09,17.72,3.03,228.13]
[139,"Капуста тушеная",150,3.3119999999999998,5.1139999999999999,14.68,116.57]
[348,"Компот из изюма",150,0.38,"-",23.12,90.26]
[null,"Батон ",40,3,1.1599999999999999,20.56,104.68]
[null,"Итого ужин ",null,{"$f":"SUM(D201:D205)","v":22.902000000000001},{"$f":"SUM(E201:E205)","v":24.064},{"$f":"SUM(F201:F205)","v":67.16},{"$f":"SUM(G201:G205)","v":566.64}]
[null,"      ВТОРОЙ УЖИН"]
[null,"Простокваша 2,5%",150,4.3499999999999996,3.75,5.97,73.66]
[null,"Пряники",20,0.96,0.56000000000000005,15.54,70]
[null,"Итого второй ужин",null,{"$f":"SUM(D208:D209)","v":5.31},{"$f":"SUM(E208:E209)","v":4.3100000000000005},{"$f":"SUM(F208:F209)","v":21.509999999999998},{"$f":"SUM(G208:G209)","v":143.66}]
[]
[null,"Соль за целый день ",8,"-","-","-","-"]
[]
[null,"Итого за день",null,{"$f":"D210+D206+D199+D195+D188","v":81.061999999999983},87.62,{"$f":"F210+F206+F199+F195+F188","v":282.34000000000003},{"$f":"G210+G206+G199+G195+G188","v":2283.84}]
[null,"Наименование блюда","Выход","Б","Ж","У","К"]
{"$rows_empty":32}
[null,"МЕНЮ"]
[]
[null,"П Я Т Ы Й    Д Е Н Ь"]
[null,"ЗАВТРАК"]
[null,"Наименование блюда","Выход","Б","Ж","У","К"]
[null,"МЕНЮ"]
[]
[null,"П Я Т Ы Й   Д Е Н Ь"]
[]
[null,"ЗАВТРАК"]
[null,"Наименование блюда","Выход","Б","Ж","У","К"]
[181,"Каша манная",150,4.6399999999999997,7.84,22.41,178.9]
[14,"Масло сливочное",5,0.04,3.62,0.06,33.049999999999997]
[15,"Сыр",15,3.9,3.9,"-",54]
[382,"Кофейный напиток с молоком",200,4,4.07,24.09,152.80000000000001]
[null,"Яблоко свежее",150,0.4,0.4,9.76,44.48]
[null,"Батон ",40,3,1.1599999999999999,20.56,104.68]
[null,"Итого завтрак",null,{"$f":"SUM(D259:D264)","v":15.98},{"$f":"SUM(E259:E264)","v":20.99},{"$f":"SUM(F259:F264)","v":76.88},{"$f":"SUM(G259:G264)","v":567.91000000000008}]
[null,"           ОБЕД"]
[47,"Салат из квашеной капусты",50,0.77,2.5,3.9,41.9]
[96,"Рассольник \"Ленинградский\" со сметаной",200,2.06,6.3,14.01,123]
[260,"Гуляш мясной",100,15.074999999999999,19.594999999999999,1.2809999999999999,247.01]
[202,"Рожки отварные",150,5.34,3.68,35.770000000000003,204.92]
[null,"Сок фруктовый, виноградный",150,0.45,"-",20.7,81]
[null,"Хлеб ржаной",50,3.28,0.6,16.7,85.4]
[null,"Итого обед",null,{"$f":"SUM(D267:D272)","v":26.975000000000001},{"$f":"SUM(E267:E272)","v":32.675000000000004},{"$f":"SUM(F267:F272)","v":92.361000000000004},{"$f":"SUM(G267:G272)","v":783.2299999999999}]
[null,"             ПОЛДНИК"]
[420,"Колбасные изделия, запеченные в тесте",75,7.968,7.38,30.32,219.44]
[385,"Молоко кипяченое",200,5.8,6.4,9.4,118.4]
[null,"Итого полдник",null,{"$f":"SUM(D275:D276)","v":13.768000000000001},{"$f":"SUM(E275:E276)","v":13.780000000000001},{"$f":"SUM(F275:F276)","v":39.72},{"$f":"SUM(G275:G276)","v":337.84000000000003}]
[null,"                УЖИН"]
[240,"Фрикадельки рыбные",80,7.56,2.82,7.9450000000000003,86.28]
[126,"Картофель отварной с луком",150,4.38,9.67,27.03,185.58]
[350,"Кисель из кураги",150,0.67,4.4999999999999998E-2,24.56,115.95]
[null,"Батон ",40,3,1.1599999999999999,20.56,104.68]
[null,"Итого ужин ",null,15.61,13.695,80.094999999999999,492.49]
[null,"      ВТОРОЙ УЖИН"]
[null,"Снежок",150,0.1,0.3,6.89,37.950000000000003]
[null,"Вафли",20,0.64,0.56000000000000005,16,70]
[null,"Итого второй ужин",null,{"$f":"SUM(D285:D286)","v":0.74},{"$f":"SUM(E285:E286)","v":0.8600000000000001},{"$f":"SUM(F285:F286)","v":22.89},{"$f":"SUM(G285:G286)","v":107.95}]
[]
[null,"Соль за целый день ",8,"-","-","-","-"]
[]
[null,"Итого за день",null,{"$f":"D287+D283+D277+D273+D265","v":73.073000000000008},{"$f":"E287+E283+E277+E273+E265","v":82},{"$f":"F287+F283+F277+F273+F265","v":311.94599999999997},{"$f":"G287+G283+G277+G273+G265","v":2289.42}]
[]
[]
[null,"МЕНЮ"]
[]
[null," Ш Е С Т О Й    Д Е Н Ь"]
[]
[null,"ЗАВТРАК"]
[null,"Наименование блюда","Выход","Б","Ж","У","К"]
{"$rows_empty":22}
[null,"МЕНЮ"]
[]
[null,"         ЗАВТРАК                                                                    "]
[null,"Наименование блюда","Выход","Б","Ж","У","К"]
[224,"Запеканка из творога с морковью",170,20.99,14.09,33.33,345.28]
[14,"Масло сливочное",5,0.04,3.62,0.06,33.049999999999997]
[378,"Чай с молоком",200,1.49,1.62,17.37,85.85]
[null,"Батон ",40,3,1.1599999999999999,20.56,104.68]
[null,"Итого завтрак",null,{"$f":"SUM(D326:D329)","v":25.519999999999996},{"$f":"SUM(E326:E329)","v":20.490000000000002},{"$f":"SUM(F326:F329)","v":71.320000000000007},{"$f":"SUM(G326:G329)","v":568.8599999999999}]
[null,"           ОБЕД"]
[75,"Икра свекольная",50,0.76,4.0449999999999999,5.13,59.18]
[null,"Сельдь с/с ",15,2.5,1.25,"-",21.75]
[104,"Суп картофельный с мясными фрикадельками",200,4.9800000000000004,5.0999999999999996,14.27,123.79]
[291,"Плов из цыпленка",150,14.8,9.3000000000000007,27.32,255.29]
[null,"Сок фруктовый, персиковый",150,0.45,"-",25.5,99]
[null,"Хлеб ржаной",50,3.28,0.6,16.7,85.4]
[null,"Итого обед",null,{"$f":"SUM(D332:D337)","v":26.77},{"$f":"SUM(E332:E337)","v":20.295000000000002},{"$f":"SUM(F332:F336)","v":72.22},{"$f":"SUM(G332:G337)","v":644.41}]
[null,"             ПОЛДНИК"]
[null,"Печенье",25,1.85,2.4500000000000002,18.600000000000001,103.85]
[null,"Банан",150,1.5,0.5,21,94.62]
[null,"Молоко топленое",200,5.8,8,9.4,132.80000000000001]
[null,"Итого полдник",null,{"$f":"SUM(D340:D342)","v":9.15},{"$f":"SUM(E340:E342)","v":10.95},{"$f":"SUM(F340:F342)","v":49},{"$f":"SUM(G340:G342)","v":331.27}]
[null,"                УЖИН"]
[268,"Шницель мясной",80,8.5399999999999991,11.1,8.5350000000000001,167.07]
[143,"Рагу овощное",150,2.77,5.7,13.83,128.09]
[348,"Компот из чернослива",150,0.35,"-",23.73,93.15]
[null,"Батон ",30,2.25,0.87,15.42,78.510000000000005]
[null,"Итого ужин ",null,{"$f":"SUM(D345:D348)","v":13.909999999999998},{"$f":"SUM(E345:E348)","v":17.670000000000002},{"$f":"SUM(F345:F348)","v":61.515000000000001},{"$f":"SUM(G345:G348)","v":466.81999999999994}]
[null,"      ВТОРОЙ УЖИН"]
[null,"Мажитель",150,7.0000000000000007E-2,0.25,5.04,40.869999999999997]
[null,"Батон ",10,0.75,0.28999999999999998,5.14,26.17]
[null,"Итого второй ужин",null,{"$f":"SUM(D351:D352)","v":0.82000000000000006},{"$f":"SUM(E351:E352)","v":0.54},{"$f":"SUM(F351:F352)","v":10.18},{"$f":"SUM(G351:G352)","v":67.039999999999992}]
[]
[null,"Соль за целый день ",8,"-","-","-","-"]
[]
[null,"Итого за день",null,{"$f":"D353+D349+D343+D338+D330","v":76.169999999999987},{"$f":"E353+E349+E343+E338+E330","v":69.944999999999993},{"$f":"F353+F349+F343+F338+F330","v":264.23500000000001},{"$f":"G353+G349+G343+G338+G330","v":2078.3999999999996}]
[null," "]
{"$rows_empty":19}
[null,"МЕНЮ"]
[]
[]
[null,"ЗАВТРАК"]
[null,"Наименование блюда","Выход","Б","Ж","У","К"]
[null,"Каша гречневая вязкая","150/7",3.58,0.87,2.5299999999999998,126.63]
[null,null,null,2.02,2.2999999999999998,3.38,41.76]
[null,null,null,0.06,5.08,0.09,46.27]
[null,null,null,"-","-",2.99,11.37]
[null,"МЕНЮ"]
[]
[null,"С Е Д Ь М О Й  Д Е Н Ь"]
[]
[null,"ЗАВТРАК"]
[null,"Наименование блюда","Выход","Б","Ж","У","К"]
[173,"Каша гречневая вязкая",150,5.66,8.25,8.99,226.03]
[14,"Масло сливочное",5,0.04,3.62,0.06,33.049999999999997]
[376,"Чай с сахаром",200,0.1,2.5000000000000001E-2,15.02,56.85]
[null,"Апельсин",150,0.9,0.2,8.1,37.799999999999997]
[null,"Батон ",40,3,1.1599999999999999,20.56,104.68]
[null,"Итого завтрак",null,9.6999999999999993,13.255000000000001,{"$f":"SUM(F393:F397)","v":52.730000000000004},458.41]
[null,"           ОБЕД"]
[75,"Икра морковная",50,0.71,4.09,4.7,56.18]
[103,"Суп картофельный с вермишелью на м/к бульоне",200,2.19,2.258,16.38,97.32]
[233,"Рыба запеченная под молочным соусом",150,7.68,11.72,27.44,248.92]
[null,"Картофель отварной с луком",150,3.1,6.99,20.84,167]
[null,"Сок фруктовый, яблочный",150,0.75,"-",13.65,105]
[null,"Хлеб ржаной",50,3.28,0.6,16.7,85.4]
[null,"Итого обед",null,17.71,25.66,99.71,759.82]
[null,"             ПОЛДНИК"]
[470,"Пирог с яблоками",100,5.63,2.91,50.67,248.66]
[null,"Йогурт",150,4.2,4.8099999999999996,7.06,87.17]
[null,"Итого полдник",null,{"$f":"SUM(D408:D409)","v":9.83},{"$f":"SUM(E408:E409)","v":7.72},{"$f":"SUM(F408:F409)","v":57.730000000000004},{"$f":"SUM(G408:G409)","v":335.83}]
[null,"                УЖИН"]
[null,"Помидоры свежие",75,1.1200000000000001,7.0000000000000007E-2,5.77,27]
[287,"Голубцы с мясом  и рисом",200,11.07,13.2,16.352,232.94]
[348,"Компот из кураги",150,0.45,"-",23.15,89.9]
[null,"Батон ",40,3,1.1599999999999999,20.56,104.68]
[null,"Итого ужин ",null,{"$f":"SUM(D412:D415)","v":15.64},{"$f":"SUM(E412:E415)","v":14.43},{"$f":"SUM(F412:F415)","v":65.831999999999994},{"$f":"SUM(G412:G415)","v":454.52000000000004}]
[null,"      ВТОРОЙ УЖИН"]
[350,"Кисель из черной смородины",200,0.17899999999999999,0.1,30,117.98]
[null,"Печенье",20,1.48,1.96,14.88,83.08]
[null,"Итого второй ужин",null,{"$f":"SUM(D418:D419)","v":1.659},{"$f":"SUM(E418:E419)","v":2.06},{"$f":"SUM(F418:F419)","v":44.88},{"$f":"SUM(G418:G419)","v":201.06}]
[]
[null,"Соль за целый день ",8,"-","-","-","-"]
[]
[null,"Итого за день",null,{"$f":"D420+D416+D410+D406+D398","v":54.539000000000001},63.125,{"$f":"F420+F416+F410+F406+F398","v":320.88200000000001},{"$f":"G420+G416+G410+G406+G398","v":2209.64}]
[]
[]
[]
[null,"МЕНЮ"]
[]
[]
[null,"ЗАВТРАК                                                                     "]
[null,"Наименование блюда","Выход","Б","Ж","У","К"]
[null,"Пудинг из творога со сметаной","100/10",12.46,6.72,1.49,118.71]
[null,null,null,0.02,2.04,0.04,18.59]
[null,null,null,0.82,0.08,5.56,26.83]
[null,null,null,0.87,0.54,0.03,7.35]
[null,null,null,0.25,"-",5.43,22.26]
[null,null,null,"-","-","-","-"]
[null,null,null,"-","-",8,31]
[null,null,null,0.08,0.59,0.09,6.09]
[null,null,null,0.28000000000000003,2,0.32,20.6]
[null,"МЕНЮ"]
[]
[null,"В О С Ь М О Й  Д Е Н Ь"]
[]
[null,"ЗАВТРАК"]
[null,"Наименование блюда","Выход","Б","Ж","У","К"]
[222,"Пудинг из творога со сметаной",110,14.78,11.97,20.96,{"$f":"SUM(G433:G441)","v":251.42999999999998}]
[14,"Масло сливочное",5,0.04,3.62,0.06,33.049999999999997]
[382,"Какао с молоком",200,3.76,3.9,25.81,149]
[null,"Груша свежая",150,0.4,0.3,10.3,45.62]
[null,"Батон ",40,3,1.1599999999999999,20.56,104.68]
[null,"Итого завтрак",null,{"$f":"SUM(D448:D452)","v":21.979999999999997},{"$f":"SUM(E448:E452)","v":20.95},{"$f":"SUM(F448:F452)","v":77.69},{"$f":"SUM(G448:G452)","v":583.78}]
[null,"           ОБЕД"]
[67,"Винегрет овощной",50,0.76,5.07,3.97,64.650000000000006]
[102,"Суп картофельный с зеленым горошком",200,1.83,4.25,10.8,90.04]
[277,"Рулет с яйцом",100,19.225999999999999,18.074999999999999,12.37,201.14]
[202,"Вермишель отварная",150,5.34,3.68,35.770000000000003,204.92]
[null,"Сок фруктовый, виноградный",150,0.45,"-",20.7,81]
[null,"Хлеб ржаной",50,3.28,0.6,16.7,85.4]
[null,"Итого обед",null,{"$f":"SUM(D455:D460)","v":30.885999999999999},{"$f":"SUM(E455:E460)","v":31.675000000000001},{"$f":"SUM(F455:F460)","v":100.31},{"$f":"SUM(G455:G460)","v":727.15}]
[null,"             ПОЛДНИК"]
[461,"Пирог с капустой и яйцом",100,7.38,6.26,35.47,223.77]
[null,"Чудо- молоко",200,2.8,2,7.5,67]
[null,"Итого полдник",null,10.18,{"$f":"SUM(E463:E464)","v":8.26},{"$f":"SUM(F463:F464)","v":42.97},{"$f":"SUM(G463:G464)","v":290.77}]
[null,"                УЖИН"]
[null,"Огурец свежий",75,1.1200000000000001,7.0000000000000007E-2,5.77,27]
[229,"Рыба тушеная в томате с овощами",100,5.25,7.56,6.15,203.72]
[125,"Картофель отварной",150,3.04,4.41,24.51,154.69999999999999]
[349,"Компот из сухофруктов",150,0.38,"-",23.12,90.26]
[null,"Батон ",30,2.25,0.87,15.42,78.510000000000005]
[null,"Итого ужин ",null,{"$f":"SUM(D467:D471)","v":12.040000000000001},{"$f":"SUM(E467:E471)","v":12.909999999999998},{"$f":"SUM(F467:F471)","v":74.97},{"$f":"SUM(G467:G471)","v":554.18999999999994}]
[null,"      ВТОРОЙ УЖИН"]
[386,"Кефир 2,5%",150,4.2,4.8099999999999996,7.06,87.19]
[null,"Гренки/сухарики",10,0.77,0.24,4.9000000000000004,35.4]
[null,"Итого второй ужин",null,{"$f":"SUM(D474:D475)","v":4.9700000000000006},{"$f":"SUM(E474:E475)","v":5.05},{"$f":"SUM(F474:F475)","v":11.96},{"$f":"SUM(G474:G475)","v":122.59}]
[]
[null,"Соль за целый день ",8,"-","-","-","-"]
[]
[null,"Итого за день",null,{"$f":"D476+D472+D465+D461+D453","v":80.055999999999997},{"$f":"E476+E472+E465+E461+E453","v":78.844999999999999},{"$f":"F476+F472+F465+F461+F453","v":307.89999999999998},{"$f":"G476+G472+G465+G461+G453","v":2278.4799999999996}]
{"$rows_empty":17}
[null,"МЕНЮ"]
[]
[]
[null,"ЗАВТРАК"]
[null,"Наименование блюда","Выход","Б","Ж","У","К"]
[null,"Каша рисовая ","150/7",1.61,0.23,16.510000000000002,75.67]
[null,null,null,2.21,2.5299999999999998,9.77,45.82]
[null,null,null,0.06,5.08,0.09,46.27]
[null,null,null,"-","-",2.99,11.37]
[null,"Итого",null,{"$f":"SUM(D503:D506)","v":3.8800000000000003},{"$f":"SUM(E503:E506)","v":7.84},{"$f":"SUM(F503:F506)","v":29.36},{"$f":"SUM(G503:G506)","v":179.13000000000002}]
[null,"Масло сливочное",5,0.04,3.62,0.06,33.049999999999997]
[null,"Колбаса отварная",15,1.95,2.91,"-",34.049999999999997]
[null,"Молоко стерилизованное",200,5.8,5,9.6,106.6]
[null,"Яблоко свежее",90,0.36,0.36,8.7899999999999991,40.04]
[null,"Батон ",40,3,1.1599999999999999,20.56,104.68]
[null,"Итого завтрак",null,{"$f":"D512+D511+D510+D509+D508+D507","v":15.03},{"$f":"E512+E511+E510+E509+E508+E507","v":20.89},{"$f":"F512+F511+F510+F508+F507","v":68.37},{"$f":"G512+G511+G510+G509+G508+G507","v":497.55000000000007}]
[null,"           ОБЕД"]
[null,"Икра кабачковая",50,1,4.5,4.25,61]
[null,"МЕНЮ"]
[]
[null,"Д Е В Я Т Ы Й  Д Е Н Ь"]
[]
[null,"ЗАВТРАК"]
[null,"Наименование блюда","Выход","Б","Ж","У","К"]
[182,"Каша рисовая ",150,3.88,7.84,29.36,179.13]
[14,"Масло сливочное",5,0.04,3.62,0.06,33.049999999999997]
[16,"Колбаса отварная",15,1.95,2.91,"-",34.049999999999997]
[null,"Молоко стерилизованное",200,5.8,5,9.6,106.6]
[null,"Яблоко свежее",150,0.4,0.4,9.76,44.48]
[null,"Батон ",40,3,1.1599999999999999,20.56,104.68]
[null,"Итого завтрак",null,{"$f":"SUM(D522:D527)","v":15.07},{"$f":"SUM(E522:E527)","v":20.93},{"$f":"SUM(F522:F527)","v":69.339999999999989},{"$f":"SUM(G522:G527)","v":501.99000000000007}]
[null," ОБЕД"]
[null,"Икра кабачковая",50,1,4.5,4.25,61]
[82,"Сельдь с/с ",15,2.5,1.25,"-",21.75]
[82,"Борщ со сметаной",200,1.57,6.165,9.7899999999999991,98.06]
[278,"Тефтели с соусом",110,18.37,22.07,23.7,281.98]
[127,"Картофель в молоке",150,3.6840000000000002,3.355,20.84,127.89]
[376,"Чай с сахаром",200,0.1,2.5000000000000001E-2,15.02,56.85]
[null,"Хлеб ржаной",50,3.28,0.6,16.7,85.4]
[null,"Итого обед",null,{"$f":"SUM(D530:D536)","v":30.504000000000005},{"$f":"SUM(E530:E536)","v":37.964999999999996},{"$f":"SUM(F530:F536)","v":90.3},{"$f":"SUM(G530:G536)","v":732.93000000000006}]
[null,"             ПОЛДНИК"]
[210,"Омлет с сыром и зеленым горошком",110,8.9700000000000006,11.82,5.92,166.5]
[385,"Молоко кипяченое",200,5.9,6.75,9.92,122.4]
[null,"Итого полдник",null,14.87,18.57,15.84,288.89999999999998]
[null,"                УЖИН"]
[47,"Салат из квашеной капусты",50,0.77,2.5,3.9,41.9]
[268,"Котлета мясная",55,7.94,13.18,5.48,171.4]
[302,"Каша гречневая рассыпчатая",150,5.84,4.7699999999999996,4.16,237.4]
[349,"Компот из чернослива",150,0.35,"-",23.73,93.15]
[null,"Батон ",30,2.25,0.87,15.42,78.510000000000005]
[null,"Итого ужин ",null,{"$f":"SUM(D543:D547)","v":17.149999999999999},{"$f":"SUM(E543:E547)","v":21.32},{"$f":"SUM(F543:F547)","v":52.690000000000005},{"$f":"SUM(G543:G547)","v":622.36}]
[null,"      ВТОРОЙ УЖИН"]
[386,"Ряженка",150,4.2,4.8,8.2899999999999991,102.35]
[null,"Батон ",10,0.75,0.28999999999999998,5.14,26.17]
[null,"Итого второй ужин",null,{"$f":"SUM(D550:D551)","v":4.95},{"$f":"SUM(E550:E551)","v":5.09},{"$f":"SUM(F550:F551)","v":13.43},{"$f":"SUM(G550:G551)","v":128.51999999999998}]
[]
[null,"Соль за целый день ",8,"-","-","-","-"]
[]
[null,"Итого за день",null,82.54,{"$f":"E552+E548+E541+E537+E528","v":103.875},{"$f":"F552+F548+F541+F537+F528","v":241.59999999999997},{"$f":"G552+G548+G541+G537+G528","v":2274.7000000000003}]
[]
[]
[]
[]
[null,"Какао с молоком",200,3.76,3.9,25.81,149]
{"$rows_empty":8}
[null,"МЕНЮ"]
[]
[]
[null,"ЗАВТРАК"]
[null,"Наименование блюда","Выход","Б","Ж","У","К"]
[null,"Запеканка из творога  с йогуртом","100/30",15.53,8.3699999999999992,1.86,147.87]
[null,null,null,0.72,7.0000000000000007E-2,4.75,22.96]
[null,null,null,1.3,0.8,0.05,10.99]
[null,null,null,8.0000000000000002E-3,0.72,1.2999999999999999E-2,6.61]
[null,null,null,0.08,0.6,0.1,6.18]
[null,null,null,"-","-",7,26.53]
[null,null,null,1.5,0.96,1.05,18.84]
[null,"Итого",null,{"$f":"SUM(D575:D581)","v":19.137999999999998},{"$f":"SUM(E575:E581)","v":11.52},{"$f":"SUM(F575:F581)","v":14.823},{"$f":"SUM(G575:G581)","v":239.98000000000005}]
[null,"Масло сливочное",5,0.04,3.62,0.06,33.049999999999997]
[null,"Сыр",15,3.9,3.9,"-",54]
[null,"Какао с молоком",200,0.96,0.7,1.1100000000000001,15.2]
[null,null,null,2.8,3.2,4.7,58]
[null,null,null,"-","-",20,75.8]
[null,"МЕНЮ"]
[]
[null,"Д Е С Я Т Ы Й  Д Е Н Ь"]
[]
[null,"ЗАВТРАК"]
[null,"Наименование блюда","Выход","Б","Ж","У","К"]
[223,"Запеканка из творога  с йогуртом",130,19.138000000000002,11.52,14.823,239.98]
[14,"Масло сливочное",5,0.04,3.62,0.06,33.049999999999997]
[15,"Сыр",15,3.9,3.9,"-",54]
[378,"Чай с молоком",200,1.49,1.615,17.34,85.85]
[null,"Батон ",40,3,1.1599999999999999,20.56,104.68]
[null,"Итого завтрак",null,{"$f":"SUM(D594:D598)","v":27.567999999999998},{"$f":"SUM(E594:E598)","v":21.814999999999998},{"$f":"SUM(F594:F598)","v":52.783000000000001},{"$f":"SUM(G594:G598)","v":517.55999999999995}]
[null,"           ОБЕД"]
[75,"Икра морковная",50,0.71,4.0449999999999999,4.7,56.18]
[97,"Суп картофельный с рыбой",200,6.46,3.15,15.67,111.22]
[259,"Жаркое по-домашнему",200,17.34,17.43,20.95,313.8]
[null,"Сок фруктовый, яблочный",150,0.75,"-",13.65,105]
[null,"Хлеб ржаной",50,3.28,0.6,16.7,85.4]
[null,"Итого обед",null,{"$f":"SUM(D601:D605)","v":28.54},{"$f":"SUM(E601:E605)","v":25.225000000000001},{"$f":"SUM(F601:F604)","v":54.97},{"$f":"SUM(G601:G605)","v":671.6}]
[null,"             ПОЛДНИК"]
[null,"Банан",150,1.5,0.5,21,94.62]
[null,"Зефир",30,0.24,"-",23.49,89.7]
[null,"Молоко топленое",200,5.8,8,9.4,132.80000000000001]
[null,"Итого полдник",null,{"$f":"SUM(D608:D610)","v":7.54},{"$f":"SUM(E608:E610)","v":8.5},{"$f":"SUM(F608:F610)","v":53.889999999999993},{"$f":"SUM(G608:G610)","v":317.12}]
[null,"                УЖИН"]
[null,"Помидоры свежые",75,1.1200000000000001,7.0000000000000007E-2,5.77,27]
[234,"Биточки рыбные",75,9.2200000000000006,8.89,8.6199999999999992,151.09]
[138,"Овощи в молочном соусе",150,3.43,3.11,14.53,99.85]
[342,"Компот из груши",150,0.12,0.09,20.81,82.92]
[null,"Батон ",40,3,1.1599999999999999,20.56,104.68]
[null,"Итого ужин ",null,{"$f":"D617+D616+D615+D614+D613","v":16.89},{"$f":"E617+E616+E615+E614+E613","v":13.32},{"$f":"F617+F616+F615+F614+F613","v":70.289999999999992},{"$f":"G617+G616+G615+G614+G613","v":465.54000000000008}]
[null,"      ВТОРОЙ УЖИН"]
[386,"Йогурт",150,4.2,4.8099999999999996,7.06,87.17]
[null,"Пряники",20,0.96,0.56000000000000005,15.54,70]
[null,"Итого второй ужин",null,{"$f":"SUM(D620:D621)","v":5.16},{"$f":"SUM(E620:E621)","v":5.3699999999999992},{"$f":"SUM(F620:F621)","v":22.599999999999998},{"$f":"SUM(G620:G621)","v":157.17000000000002}]
[]
[null,"Соль за целый день ",8,"-","-","-","-"]
[]
[null,"Итого за день",null,{"$f":"D622+D618+D606+D599","v":78.158000000000001},{"$f":"E622+E618+E611+E606+E599","v":74.22999999999999},{"$f":"F622+F618+F611+F606+F599","v":254.53299999999996},{"$f":"G622+G618+G611+G606+G599","v":2128.9899999999998}]
[]
[]
[null,"           ОБЕД"]
[]
[]
[null,"Итого ужин ",null,0.1,2.5000000000000001E-2,0.02,{"$f":"#REF!+#REF!+#REF!+G630+G631","v":{"$error":"#REF!"}}]
[null,"      ВТОРОЙ УЖИН"]
[null,"Банан",100,0.1,2.5000000000000001E-2,15.02,94.5]
[]
[null,"МЕНЮ"]
[]
[]
[]
[null,"Наименование блюда","Выход","Б","Ж","У","К"]
[null,"Суп молочный вермишелевый",150,2.1,2.4,3.53,43.5]
[null,null,null,1.25,1.4999999999999999E-2,8.4,40.44]
[null,null,null,1.4999999999999999E-2,1.0900000000000001,0.02,10.07]
[null,null,null,"-","-",0.74,2.84]
[null,"Итого",null,{"$f":"SUM(D641:D644)","v":3.3650000000000002},{"$f":"SUM(E641:E644)","v":3.5049999999999999},{"$f":"SUM(F641:F644)","v":12.69},{"$f":"SUM(G641:G644)","v":96.85}]
[null,"Масло сливочное",5,0.04,3.62,0.06,33.049999999999997]
[null,"Колбаса отварная",15,1.95,2.91,"-",34.049999999999997]
[null,"Чай с сахаром","200/15",0.1,2.5000000000000001E-2,0.02,"-"]
[null,null,null,"-","-",15,56.85]
[null,"Итого",null,0.1,2.5000000000000001E-2,15.02,56.85]
[null,"Апельсин",90,0.65,0.14000000000000001,11.82,64.989999999999995]
[null,"Батон ",40,3,1.1599999999999999,20.56,104.68]
[null,"Итого",null,{"$f":"D652+D651+D650+D647+D646+D645","v":9.1050000000000004},{"$f":"E652+E651+E650+E647+E646+E645","v":11.36},{"$f":"F652+F651+F650+F646+F645","v":60.149999999999991},{"$f":"G652+G651+G650+G647+G646+G645","v":390.47}]
[null,"МЕНЮ"]
[]
[null,"О Д И Н Н А Д Ц А Т Ы Й  Д Е Н Ь"]
[]
[null,"ЗАВТРАК"]
[null,"Наименование блюда","Выход","Б","Ж","У","К"]
[120,"Суп молочный вермишелевый",150,3.3650000000000002,3.5049999999999999,12.69,96.85]
[14,"Масло сливочное",5,0.04,3.62,0.06,33.049999999999997]
[16,"Колбаса отварная",15,1.95,2.91,"-",34.049999999999997]
[376,"Чай с сахаром",200,0.1,2.5000000000000001E-2,15.02,56.85]
[null,"Апельсин",150,0.9,0.2,8.1,37.799999999999997]
[null,"Батон ",40,3,1.1599999999999999,20.56,104.68]
[null,"Итого завтрак",null,{"$f":"SUM(D659:D665)","v":9.3550000000000004},{"$f":"SUM(E659:E665)","v":11.42},{"$f":"SUM(F660:F665)","v":56.429999999999993},{"$f":"SUM(G660:G665)","v":363.28}]
[null,"           ОБЕД"]
[75,"Икра свекольная",50,0.76,4.0449999999999999,5.125,59.17]
[101,"Суп картофельный с рисом на курином бульоне",200,1.72,2.3079999999999998,14.3,86.72]
[288,"Цыпленок отварной",50,10.55,6.8,"-",103.4]
[126,"Картофель отварной с луком",150,4.38,9.67,27.03,185.58]
[null,"Сок фруктовый, виноградный",150,0.45,"-",20.7,81]
[null,"Хлеб ржаной",50,3.28,0.6,16.7,85.4]
[null,"Итого обед",null,{"$f":"SUM(D668:D673)","v":21.14},{"$f":"SUM(E668:E673)","v":23.423000000000002},{"$f":"SUM(F668:F673)","v":83.855000000000004},{"$f":"SUM(G668:G673)","v":601.27}]
[null,"             ПОЛДНИК"]
[470,"Пирог с яблоками",100,5.63,2.91,50.67,246.66]
[null,"Коктель молочный",200,3.3,2.5,9.9,75]
[null,"Итого полдник",null,8.93,5.41,60.57,321.66000000000003]
[null,"                УЖИН"]
[null,"Огурец свежий",75,1.1200000000000001,7.0000000000000007E-2,5.77,27]
[268,"Биточки мясные",80,8.5399999999999991,11.1,8.5350000000000001,167.07]
[139,"Капуста тушеная",150,3.3119999999999998,5.1139999999999999,14.68,116.57]
[349,"Компот из сухофруктов",150,0.38,"-",23.12,90.26]
[null,"Батон ",30,2.25,0.87,15.42,"78,,51"]
[null,"Итого ужин ",null,{"$f":"SUM(D680:D684)","v":15.602},{"$f":"SUM(E680:E684)","v":17.154},{"$f":"SUM(F680:F684)","v":67.525000000000006},479.41]
[null,"      ВТОРОЙ УЖИН"]
[null,"Мажитель",150,7.0000000000000007E-2,0.25,5.04,40.869999999999997]
[null,"Гренки/сухарики",10,0.77,0.24,4.9000000000000004,35.4]
[null,"Итого второй ужин",null,{"$f":"SUM(D687:D688)","v":0.84000000000000008},{"$f":"SUM(E687:E688)","v":0.49},{"$f":"SUM(F687:F688)","v":9.9400000000000013},{"$f":"SUM(G687:G688)","v":76.27}]
[]
[null,"Соль за целый день ",8,"-","-","-","-"]
[]
[null,"Итого за день",null,{"$f":"D689+D685+D678+D674+D666","v":55.867000000000004},{"$f":"E689+E685+E678+E674+E666","v":57.897000000000006},{"$f":"F689+F685+F678+F674+F666","v":278.32},{"$f":"G689+G685+G678+G674+G666","v":1841.89}]
[]
[]
[]
[]
[]
[null,"Груша свежая",90,0.36,0.27,9.2899999999999991,41.06]
[]
[null,null,null,1.49,1.615,17.37]
{"$rows_empty":7}
[null,"МЕНЮ"]
[]
[]
[null,"ЗАВТРАК                                                                     "]
[null,"Наименование блюда","Выход","Б","Ж","У","К"]
[null,"Каша \"Дружба\"","150/7",0.81,0.12,8.26,37.840000000000003]
[null,null,null,1.73,0.5,10.08,48.75]
[null,null,null,2.1800000000000002,2.5,3.67,45.24]
[null,null,null,0.06,5.08,0.09,46.27]
[null,null,null,"-","-",2.99,11.37]
[null,"Итого",null,{"$f":"SUM(D714:D718)","v":4.78},{"$f":"SUM(E714:E718)","v":8.1999999999999993},{"$f":"SUM(F714:F718)","v":25.089999999999996},{"$f":"SUM(G714:G718)","v":189.47000000000003}]
[null,"Масло сливочное",5,0.04,3.62,0.06,33.049999999999997]
[null,"Яйцо вареное","1/2шт.",2.5499999999999998,2.2999999999999998,0.14000000000000001,31.42]
[null,"Кофейный напиток с молоком",200,1.2,0.87,1.39,19]
[null,null,null,1.4,1.6,2.35,29]
[null,null,null,"-","-",20,75.8]
[null,"Итого ",null,2.6,2.4700000000000002,23.74,123.8]
[null,"МЕНЮ"]
[]
[null,"Д В Е Н А Д Ц А Т Ы Й  Д Е Н Ь"]
[]
[null,"ЗАВТРАК"]
[null,"Наименование блюда","Выход","Б","Ж","У","К"]
[182,"Каша \"Дружба\"",150,4.78,8.1999999999999993,25.09,189.47]
[14,"Масло сливочное",5,0.04,3.62,0.06,33.049999999999997]
[379,"Кофейный напиток с   молоком",200,4,4.07,24.09,152.80000000000001]
[null,"Груша свежая",150,0.4,0.3,10.3,45.62]
[null,"Батон ",40,3,1.1599999999999999,20.56,104.68]
[null,"Итого завтрак",null,{"$f":"SUM(D732:D736)","v":12.22},{"$f":"SUM(E732:E736)","v":17.350000000000001},{"$f":"SUM(F732:F736)","v":80.099999999999994},{"$f":"SUM(G732:G736)","v":525.62}]
[null,"           ОБЕД"]
[67,"Винегрет овощной",50,0.76,5.07,3.97,64.650000000000006]
[88,"Щи со сметаной",200,1.81,6.1920000000000002,7.61,93.66]
[251,"Поджарка мясная",65,15.09,17.72,3.03,228.13]
[202,"Рожки отварные",150,5.34,3.68,35.770000000000003,204.92]
[null,"Сок фруктовый, персиковый",150,0.45,"-",25.5,99]
[null,"Хлеб ржаной",50,3.28,0.6,16.7,85.4]
[null,"Итого обед",null,{"$f":"SUM(D739:D744)","v":26.73},{"$f":"SUM(E739:E744)","v":33.262},{"$f":"SUM(F739:F744)","v":92.58},{"$f":"SUM(G739:G744)","v":775.76}]
[null,"             ПОЛДНИК"]
[420,"Пицца школьная",75,7.41,12.19,21.23,224]
[385,"Чудо-молоко",200,2.8,2,7.5,67]
[null,"Итого полдник",null,10.210000000000001,14.19,28.73,291]
[null,"                УЖИН"]
[null,"Икра кабачковая",50,1,4.5,4.25,61]
[227,"Рыба припущенная",80,14.79,4.53,0.44,101.59]
[128,"Картофельное пюре",150,3.23,5.04,21.02,150.35]
[350,"Кисель из черной смородины",200,0.17899999999999999,0.1,30,117.98]
[null,"Батон ",40,3,1.1599999999999999,20.56,104.68]
[null,"Итого ужин ",null,{"$f":"SUM(D751:D755)","v":22.198999999999998},{"$f":"SUM(E751:E755)","v":15.33},{"$f":"SUM(F751:F755)","v":76.27},{"$f":"SUM(G751:G755)","v":535.6}]
[null,"      ВТОРОЙ УЖИН"]
[386,"Снежок",150,0.1,0.3,6.89,37.950000000000003]
[null,"Вафли",20,0.64,0.56000000000000005,16,70]
[null,"Итого второй ужин",null,{"$f":"SUM(D758:D759)","v":0.74},{"$f":"SUM(E758:E759)","v":0.8600000000000001},{"$f":"SUM(F758:F759)","v":22.89},{"$f":"SUM(G758:G759)","v":107.95}]
[]
[null,"Соль за целый день ",8,"-","-","-","-"]
[]
[null,"Итого за день",null,{"$f":"D760+D756+D749+D745+D737","v":72.099000000000004},{"$f":"E760+E756+E749+E745+E737","v":80.992000000000004},{"$f":"F760+F756+F753+F749+F745+F737","v":321.59000000000003},{"$f":"G760+G756+G749+G745+G737+H734","v":2235.9299999999998}]
[null,"           ОБЕД"]
[null,"Батон ",40,3,1.1599999999999999,20.56,104.68]
[null,"Итого завтрак",null,{"$f":"D766+D765+#REF!+#REF!+#REF!","v":{"$error":"#REF!"}},{"$f":"E766+E765+#REF!+#REF!+#REF!","v":{"$error":"#REF!"}},{"$f":"F766+F765+#REF!+#REF!","v":{"$error":"#REF!"}},{"$f":"G766+G765+#REF!+#REF!+#REF!","v":{"$error":"#REF!"}}]
[null,"МЕНЮ"]
[]
[null,"Т Р И Н А Д Ц А Т Ы Й  Д Е Н Ь"]
[]
[null,"ЗАВТРАК"]
[null,"Наименование блюда","Выход","Б","Ж","У","К"]
[210,"Каша пшенная",150,5.64,8.5,26.81,200.72]
[14,"Масло сливочное",5,0.04,3.62,0.06,33.049999999999997]
[15,"Сыр",15,3.9,3.9,"-",54]
[378,"Чай с молоком",200,1.49,1.615,17.34,85.85]
[null,"Батон ",40,3,1.1599999999999999,20.56,104.68]
[null,"Итого завтрак",null,{"$f":"SUM(D774:D778)","v":14.07},{"$f":"SUM(E774:E778)","v":18.794999999999998},{"$f":"SUM(F774:F778)","v":64.77},{"$f":"SUM(G774:G778)","v":478.3}]
[null,"           ОБЕД"]
[75,"Икра морковная",50,0.71,4.09,4.7,56.18]
[null,"Сельдь с/с ",15,2.5,1.25,"-",21.75]
[96,"Рассольник \"Ленинградский\" со сметаной",200,2.06,6.3,14.01,123]
[289,"Рагу из цыпленка",175,10.85,12.43,15.57,217.53]
[null,"Сок фруктовый, яблочный",150,0.75,"-",13.65,105]
[null,"Хлеб ржаной",50,3.28,0.6,16.7,85.4]
[null,"Итого обед",null,{"$f":"SUM(D781:D786)","v":20.149999999999999},{"$f":"SUM(E781:E786)","v":24.67},{"$f":"SUM(F781:F785)","v":47.93},{"$f":"SUM(G781:G786)","v":608.86}]
[null,"             ПОЛДНИК"]
[null,"Зефир",30,0.24,"-",23.49,89.7]
[null,"Банан",150,1.5,0.5,21,94.62]
[null,"Молоко топленое",200,5.8,8,9.4,132.80000000000001]
[null,"Итого полдник",null,{"$f":"SUM(D789:D791)","v":7.54},{"$f":"SUM(E790:E791)","v":8.5},{"$f":"SUM(F789:F791)","v":53.889999999999993},{"$f":"SUM(G789:G791)","v":317.12}]
[null,"                УЖИН"]
[null,"Зеленый горошек консерв. отварной",30,0.93,0.06,1.58,12]
[268,"Шницель мясной",80,8.5399999999999991,11.1,8.5350000000000001,167.07]
[143,"Рагу овощное",150,2.77,5.7,13.83,128.09]
[349,"Компот из чернослива",150,0.35,"-",23.73,93.15]
[null,"Батон ",30,2.25,0.87,15.42,78.510000000000005]
[null,"Итого ужин ",null,{"$f":"SUM(D794:D798)","v":14.839999999999998},{"$f":"SUM(E794:E798)","v":17.73},{"$f":"SUM(F794:F798)","v":63.094999999999999},{"$f":"SUM(G794:G798)","v":478.81999999999994}]
[null,"      ВТОРОЙ УЖИН"]
[386,"Н-к к/м \"Бифидин\"",150,5.0999999999999996,3.74,8.24,87.15]
[null,"Батон ",10,0.75,0.28999999999999998,5.14,26.17]
[null,"Итого второй ужин",null,{"$f":"SUM(D801:D802)","v":5.85},{"$f":"SUM(E801:E802)","v":4.03},{"$f":"SUM(F801:F802)","v":13.379999999999999},{"$f":"SUM(G801:G802)","v":113.32000000000001}]
[]
[null,"Соль за целый день ",8,"-","-","-","-"]
[]
[null,"Итого за день",null,{"$f":"D803+D799+D792+D787+D779","v":62.449999999999996},{"$f":"E803+E799+E792+E787+E779","v":73.725000000000009},{"$f":"F803+F799+F792+F787+F779","v":243.065},{"$f":"G803+G799+G792+G787+G779","v":1996.4199999999998}]
[null,"           ОБЕД"]
[null,"Наименование блюда","Выход","Б","Ж","У","К"]
[null,"Каша геркулесовая","150/7",2.5299999999999998,1.4,12.08,69.69]
[null,null,null,2.21,2.5299999999999998,9.77,45.82]
[null,null,null,0.06,5.08,0.09,46.27]
[null,null,null,"-","-",2.99,11.37]
[null,"Итого",null,{"$f":"SUM(D810:D813)","v":4.8},{"$f":"SUM(E810:E813)","v":9.01},{"$f":"SUM(F810:F813)","v":24.93},{"$f":"SUM(G810:G813)","v":173.15}]
[null,"Масло сливочное",5,0.04,3.62,0.06,33.049999999999997]
[null,"Яйцо вареное","1/2шт.",2.5499999999999998,2.2999999999999998,0.14000000000000001,31.42]
[null,"Чай с сахаром","200/15",0.1,2.5000000000000001E-2,0.02,"-"]
[null,null,null,"-","-",15,56.85]
[null,"Итого ",null,0.1,2.5000000000000001E-2,15.02,56.85]
[null,"Яблоко свежее",90,0.36,0.36,8.7899999999999991,40.04]
[null,"Батон ",40,3,1.1599999999999999,20.56,104.68]
[null,"Итого завтрак",null,{"$f":"D821+D820+D819+D816+D815+D814","v":10.85},{"$f":"E821+E820+E819+E816+E815+E814","v":16.475000000000001},{"$f":"F821+F820+F819+F816+F815+F814","v":69.5},{"$f":"G821+G820+G819+G816+G815+G814","v":439.19000000000005}]
[null,"МЕНЮ"]
[]
[null,"Ч Е Т Ы Р Н А Д Ц А Т Ы Й  Д Е Н Ь"]
[]
[null,"ЗАВТРАК"]
[null,"Наименование блюда","Выход","Б","Ж","У","К"]
[182,"Каша геркулесовая",150,4.8,9.01,24.93,173.15]
[14,"Масло сливочное",5,0.04,3.62,0.06,33.049999999999997]
[209,"Яйцо вареное","1 шт",5.0999999999999996,4.5999999999999996,0.28000000000000003,62.84]
[376,"Чай с сахаром",200,0.1,2.5000000000000001E-2,15.02,56.85]
[null,"Яблоко свежее",150,0.4,0.4,9.76,44.48]
[null,"Батон ",40,3,1.1599999999999999,20.56,104.68]
[null,"Итого завтрак",null,{"$f":"SUM(D829:D834)","v":13.44},{"$f":"SUM(E829:E834)","v":18.814999999999994},{"$f":"SUM(F829:F834)","v":70.61},{"$f":"SUM(G829:G834)","v":475.05}]
[null,"           ОБЕД"]
[47,"Салат из квашеной капусты",50,0.77,2.5,3.9,41.9]
[102,"Суп картофельный с горохом на м/к бульоне",200,4.91,4.46,17.7,132.24]
[290,"Цыпленок тушеный в соусе",100,12.37,9.92,3.36,151.72999999999999]
[304,"Рис отварной",150,3.84,5.62,38.86,223.93]
[null,"Сок фруктовый, виноградный",150,0.45,"-",20.7,81]
[null,"Хлеб ржаной",50,3.28,0.6,16.7,85.4]
[null,"Итого обед",null,{"$f":"SUM(D837:D842)","v":25.619999999999997},{"$f":"SUM(E837:E842)","v":23.1},{"$f":"SUM(F837:F842)","v":101.22},{"$f":"SUM(G837:G842)","v":716.19999999999993}]
[null,"             ПОЛДНИК"]
[467,"Пирог с кртофелем и репчетым луком",100,6.67,6.77,40,247.43]
[null,"Кисель из клюквы",200,0.16900000000000001,0.1,29.9,117.4]
[null,"Итого полдник",null,{"$f":"SUM(D845:D846)","v":6.8389999999999995},{"$f":"SUM(E845:E846)","v":6.8699999999999992},{"$f":"SUM(F845:F846)","v":69.900000000000006},{"$f":"SUM(G845:G846)","v":364.83000000000004}]
[null,"        УЖИН"]
[null,"Помидоры свежые",75,1.1200000000000001,7.0000000000000007E-2,5.77,27]
[274,"Зразы рубленые",70,9.26,15.23,7.25,200.85]
[311,"Картофель в молоке",150,3.6840000000000002,3.355,20.84,127.89]
[349,"Компот из кураги",150,0.45,"-",23.15,89.9]
[null,"Батон ",40,3,1.1599999999999999,20.56,104.68]
[null,"Итого ужин ",null,{"$f":"SUM(D849:D853)","v":17.513999999999999},{"$f":"SUM(E849:E853)","v":19.815000000000001},{"$f":"SUM(F849:F853)","v":77.569999999999993},{"$f":"SUM(G849:G853)","v":550.31999999999994}]
[null,"      ВТОРОЙ УЖИН"]
[null,"Творог диетический 4%",75,15.72,3,2.2799999999999998,99]
[null,"Печенье",20,1.48,1.96,14.88,83.08]
[null,"Итого второй ужин",null,{"$f":"SUM(D856:D857)","v":17.2},{"$f":"SUM(E856:E857)","v":4.96},{"$f":"SUM(F856:F857)","v":17.16},{"$f":"SUM(G856:G857)","v":182.07999999999998}]
[]
[null,"Соль за целый день ",8,"-","-","-","-"]
[]
[null,"Итого за день",null,{"$f":"D858+D854+D847+D843+D835","v":80.613},{"$f":"E858+E854+E847+E843+E835","v":73.56},{"$f":"F858+F854+F847+F843+F835","v":336.46000000000004},{"$f":"G858+G854+G847+G843+G835","v":2288.48}]
[]
[null,"Подготовил:"]
[null,"М/с диетическая",null,null,"Семенова О.Ю."]
[]
[null,"В работе использован Сборник рецептур на продукцию для обучающихся во всех"]
[null,"образовательных учреждениях -2015год"]